BEGIN:VCALENDAR
VERSION:2.0
PRODID:-//ReEnchanter Internet - ECPv6.6.4//NONSGML v1.0//EN
CALSCALE:GREGORIAN
METHOD:PUBLISH
X-ORIGINAL-URL:https://www.reenchanter-internet.com
X-WR-CALDESC:évènements pour ReEnchanter Internet
REFRESH-INTERVAL;VALUE=DURATION:PT1H
X-Robots-Tag:noindex
X-PUBLISHED-TTL:PT1H
BEGIN:VTIMEZONE
TZID:Europe/Paris
BEGIN:DAYLIGHT
TZOFFSETFROM:+0100
TZOFFSETTO:+0200
TZNAME:CEST
DTSTART:20200329T010000
END:DAYLIGHT
BEGIN:STANDARD
TZOFFSETFROM:+0200
TZOFFSETTO:+0100
TZNAME:CET
DTSTART:20201025T010000
END:STANDARD
END:VTIMEZONE
BEGIN:VEVENT
DTSTART;TZID=Europe/Paris:20201112T120000
DTEND;TZID=Europe/Paris:20201112T123000
DTSTAMP:20260424T092528
CREATED:20201104T095838Z
LAST-MODIFIED:20201113T065532Z
UID:1083-1605182400-1605184200@www.reenchanter-internet.com
SUMMARY:[Teaser] Numérique\, entre soumission et souveraineté (S01 E08)
DESCRIPTION:Numérique\, entre soumission et souveraineté. (S01 E08)\nOu bien les deux ? \nTous les Jeudis midi\, on part en live ! #ReEnchanterInternet\nLa crise du Covid nous contraint à utiliser massivement les plateformes de communication et d’information les plus communément utilisées. Face à cette augmentation exponentielle de production de contenus\, ni les internautes\, ni les Etats\, ni l’arsenal juridique national ou européen\, sont parés pour lutter contre la captation\, le stockage et l’exploitation de l’or du XXIème siècle : nos données. \nPendant que  les GAFAM (Google\, Apple\, Facebook\, Amazon\, Microsoft) et les BATXH (Baidu\, Alibaba\, Tencent et Xiaomi\, Huawei) se livrent une guerre technologique sur le plan planétaire\, la France et l’europe peinent à garantir la gouvernance des données et une indépendance techno-economique.  \nAvons-nous encore le temps\, le pouvoir et le savoir-faire pour mettre un frein aux pillages ? d’imposer des limites\, des conditions… ? \nRDV  pour notre 8ème Live 30 minutes pour #ReEnchanterInternet \n12 novembre 2020 de 12h00 à 12h30 \nEn direct sur notre chaîne Youtube  \nhttps://www.youtube.com/c/ReEnchanterInternet \n \nAu sommaire\n\nPourquoi la question de la souveraineté numérique est-elle si importante ?\nQuelles sont les raisons de notre incapacité à (ré)agir ?\nReste-t-il des leviers non exploités qui nous permettraient de sortir par le haut ?\n\nRejoindre et Participer au Live sur notre chaîne Youtube « RéEnchanter Internet » à 12h précises \nEn présence des contributeurs du livre « WEB 2.0 15 ans déjà et après ? 7 pistes pour réenchanter Internet ! » \n\nJérôme Bondu\,  fondateur et directeur du cabinet de conseil : Inter-Ligere.fr spécialisé en intelligence économique.  Responsable du Club IES. Conférencier IHEDN et expert APM\nFabrice Epelboin\, Conférencier\, startupper\, enseignant à Sciences Po Paris\, hacktiviste et spécialiste de la politique du numérique et de l’impact du numérique sur la politique et les mouvements sociaux.\nAnthony Poncier\, Docteur en histoire sociale et politique\, expert en transformation digital\, fondateur du Top 500 Bars\n\nAnimé par Fadhila Brahimi\, Executive Coach\, facilitatrice et fondatrice de FB-Associés
URL:https://www.reenchanter-internet.com/event/numerique-entre-soumission-et-souverainete-s01-e08/
CATEGORIES:"30 min pour RéEnchanter Internet"
ATTACH;FMTTYPE=image/png:https://www.reenchanter-internet.com/wp-content/uploads/2020/11/ReEnchanter-Internet-Twitter-Numerique-entre-soumission-et-souverainete.png
END:VEVENT
END:VCALENDAR