BEGIN:VCALENDAR
VERSION:2.0
PRODID:-//ReEnchanter Internet - ECPv6.6.4//NONSGML v1.0//EN
CALSCALE:GREGORIAN
METHOD:PUBLISH
X-WR-CALNAME:ReEnchanter Internet
X-ORIGINAL-URL:https://www.reenchanter-internet.com
X-WR-CALDESC:évènements pour ReEnchanter Internet
REFRESH-INTERVAL;VALUE=DURATION:PT1H
X-Robots-Tag:noindex
X-PUBLISHED-TTL:PT1H
BEGIN:VTIMEZONE
TZID:Europe/Paris
BEGIN:DAYLIGHT
TZOFFSETFROM:+0100
TZOFFSETTO:+0200
TZNAME:CEST
DTSTART:20200329T010000
END:DAYLIGHT
BEGIN:STANDARD
TZOFFSETFROM:+0200
TZOFFSETTO:+0100
TZNAME:CET
DTSTART:20201025T010000
END:STANDARD
END:VTIMEZONE
BEGIN:VEVENT
DTSTART;TZID=Europe/Paris:20201217T120000
DTEND;TZID=Europe/Paris:20201217T124500
DTSTAMP:20260424T080510
CREATED:20201214T083719Z
LAST-MODIFIED:20201217T132414Z
UID:1256-1608206400-1608209100@www.reenchanter-internet.com
SUMMARY:[Teaser] 7 pistes pour réenchanter une année de 💩! (S01 E13)
DESCRIPTION:7 pistes pour réenchanter une année de 💩! (S01 E13)\n Une édition spéciale pour Réenchanter 2021 ! \n45 min pour #ReEnchanterInternet avec 6 speakers experts de la transformation digitale.\nSamuel Beckett disait « Quand on est dans la merde jusqu’au cou\, il ne reste plus qu’à chanter ».  Alors Ré-Enchantons ! \nA l’évidence\, le bilan de cette année 2020\, est indissociable à la crise sanitaire mondiale non résolue. Plongeant la planète entière dans des phases de confinement et de déconfinement plus ou moins ardues. Nous avons vécu une transformation radicale de nos modes de vie personnels et professionnels. Au coeur de cette transformation : l’utilisation massive des outils technologiques et des flux internet pour gérer l’ensemble de nos interactions avec le monde extérieur. \nLors de cette saison 1 de notre Live #ReEnchanterInternet\, nous avons arboré les impacts positifs et négatifs de l’utilisation des médias sociaux dans la relation à soi\, aux autres et à la société. Ce qui semblait être inévitable et devenue cruciale : quand la distanciation devient la norme\, le virtuel n’est plus un signe distinctif mais une nécessité pour communiquer\, travailler\, acheter\, étudier….etc \nUne édition spéciale pour Réenchanter 2021 !\nSur la base des 7 pistes pour ReEnchanter Internet que nous avons élaboré dans le livre  « WEB 2.0 15 ans déjà et après ? »\, nous vous proposons de débattre sur nos espoirs\, nos résolutions personnels et nos projections pour 2021 \n  \n RDV pour notre 13ème Live  \nSur notre chaîne Youtube ReEnchanter Internet  \n30 min 45 min pour #ReEnchanterInternet \n\nAu sommaire\n2021\, \n\nVa-t-on vers un moment Braudelien ou Gibsonien concernant les plateformes numériques comme les GAFAM et autre BATX?\nCéderons-nous aux sirènes de la sobriété numérique ?\nAccentuerons-nous le télétravail ou la télésurveillance ? \nFavoriserons-nous la pédagogie ou l’exclusion numérique ?\nTrouverons-nous le chemin de la confiance et du consentement ?\n\nEn présence des contributeurs du livre « WEB 2.0 15 ans déjà et après ? 7 pistes pour réenchanter Internet ! » \n\nCyrille Chaudoit \, Expert de la transformation digitale Fondateur Talenco et du Think-Tank Singulier (point).es\nDamien Douani\, Fondateur du cabinet Futurs Simples\, co-créateur des Eclaireurs du Numérique Chroniqueur TV\nEmilie Marquois\, Consultante Social Media\, conférencière\, formatrice et community manager. Co-auteure du livre “Guide des bonnes pratiques pour un élu connecté”  \nAnthony Poncier\, Docteur en histoire sociale et politique\, expert en transformation digital\, fondateur du Top 500 Bars\nPierre Vallet\, CEO de Reputation Age\n\nAnimé par Fadhila Brahimi\, Executive Coach\, facilitatrice et fondatrice de FB-Associés
URL:https://www.reenchanter-internet.com/event/teaser-7-pistes-pour-reenchanter-une-annee-2020-2021-s01-e13/
CATEGORIES:"30 min pour RéEnchanter Internet",Edition spéciale
ATTACH;FMTTYPE=image/png:https://www.reenchanter-internet.com/wp-content/uploads/2020/12/Live-Bilan-2020-Espoirs-2021.png
END:VEVENT
END:VCALENDAR