BEGIN:VCALENDAR
VERSION:2.0
PRODID:-//ReEnchanter Internet - ECPv6.6.4//NONSGML v1.0//EN
CALSCALE:GREGORIAN
METHOD:PUBLISH
X-ORIGINAL-URL:https://www.reenchanter-internet.com
X-WR-CALDESC:évènements pour ReEnchanter Internet
REFRESH-INTERVAL;VALUE=DURATION:PT1H
X-Robots-Tag:noindex
X-PUBLISHED-TTL:PT1H
BEGIN:VTIMEZONE
TZID:Europe/Paris
BEGIN:DAYLIGHT
TZOFFSETFROM:+0100
TZOFFSETTO:+0200
TZNAME:CEST
DTSTART:20200329T010000
END:DAYLIGHT
BEGIN:STANDARD
TZOFFSETFROM:+0200
TZOFFSETTO:+0100
TZNAME:CET
DTSTART:20201025T010000
END:STANDARD
END:VTIMEZONE
BEGIN:VEVENT
DTSTART;TZID=Europe/Paris:20201203T120000
DTEND;TZID=Europe/Paris:20201203T123000
DTSTAMP:20260424T080800
CREATED:20201126T182946Z
LAST-MODIFIED:20201203T125304Z
UID:1199-1606996800-1606998600@www.reenchanter-internet.com
SUMMARY:[Teaser] Amazon\, on a les commerçants que l'on mérite (S01 E11)
DESCRIPTION:Amazon\, on a les commerçants que l’on mérite (S01 E11)\nDepuis le début de la crise\, la vente en ligne a joué un rôle d’amortisseur\, de ressort ou de frein aux commerçants. \nLe label « commerce essentiel »\,  les contraintes de déplacement\, le changement soudain des comportements d’achat\,  l’expérience dans la dématérialisation des parcours client\,  la disparités des circuits d’approvisionnement et de distribution entre les secteurs et les produits\, les sur-coûts (livraison\, aménagement des surfaces)…. ont rebattu les cartes entre le commerce de proximité\, les grandes enseignes\, les grandes surfaces et les places de marché en ligne. \nAvec la fièvre du digital\, les services de livraison et les besoins en manutention ont augmenté pendant que des rideaux affichent « baille à céder ». \nUn palliatif pour les uns\, un curatif pour les autres. \nDans ce bouglibouga\, le responsable est tout trouvé. \nLa faute au pangolin de la vente en ligne: Amazon! \nMais Amazon\, est-il le vrai coupable ou le bouc émissaire d’un mal plus antérieur à la crise ? \nAmazon: on a les commerçants que l’on mérite  \n notre 11ème Live  \n30 min pour #ReEnchanterInternet \n03 décembre 2020 de 12h00 à 12h30 \n \nAu sommaire\n\nLes causes d’un commerce de proximité en souffrance\nUn consommateur dont les usages ont évolué\nComment réagir et changer de paradigme\n\nRejoindre et Participer au Live sur notre chaîne Youtube « RéEnchanter Internet » à 12h précises \nEn présence des contributeurs du livre « WEB 2.0 15 ans déjà et après ? 7 pistes pour réenchanter Internet ! » \n\nCyrille Chaudoit \, fondateur de la société TalenCo « Activateur de pensée critique »\nDamien Douani\, Fondateur du cabinet Futurs Simples\, co-créateur des Eclaireurs du Numérique\nAnthony Poncier\, Docteur en histoire sociale et politique\, expert en transformation digital\, fondateur du Top 500 Bars\n\nAnimé par Fadhila Brahimi\, Executive Coach\, facilitatrice et fondatrice de FB-Associés \n \n 
URL:https://www.reenchanter-internet.com/event/teaser-amazon-on-a-les-commercants-quon-merite-s01-e11/
CATEGORIES:"30 min pour RéEnchanter Internet"
ATTACH;FMTTYPE=image/png:https://www.reenchanter-internet.com/wp-content/uploads/2020/11/Live-Ecommerce-ReEnchanter-Internet-_-Fadhila-Brahimi_-Damien-Douani-_Cyrille-Chaudoit-_Anthony-Poncier.png
END:VEVENT
END:VCALENDAR