BEGIN:VCALENDAR
VERSION:2.0
PRODID:-//ReEnchanter Internet - ECPv6.6.4//NONSGML v1.0//EN
CALSCALE:GREGORIAN
METHOD:PUBLISH
X-ORIGINAL-URL:https://www.reenchanter-internet.com
X-WR-CALDESC:évènements pour ReEnchanter Internet
REFRESH-INTERVAL;VALUE=DURATION:PT1H
X-Robots-Tag:noindex
X-PUBLISHED-TTL:PT1H
BEGIN:VTIMEZONE
TZID:Europe/Paris
BEGIN:DAYLIGHT
TZOFFSETFROM:+0100
TZOFFSETTO:+0200
TZNAME:CEST
DTSTART:20200329T010000
END:DAYLIGHT
BEGIN:STANDARD
TZOFFSETFROM:+0200
TZOFFSETTO:+0100
TZNAME:CET
DTSTART:20201025T010000
END:STANDARD
END:VTIMEZONE
BEGIN:VEVENT
DTSTART;TZID=Europe/Paris:20201126T120000
DTEND;TZID=Europe/Paris:20201126T123000
DTSTAMP:20260424T092533
CREATED:20201119T154603Z
LAST-MODIFIED:20201130T065601Z
UID:1141-1606392000-1606393800@www.reenchanter-internet.com
SUMMARY:[Teaser] IncLusion Numérique: utopie ou nécessité sociale ? (S01 E10)
DESCRIPTION:Inclusion Numérique: utopie ou nécessité sociale ? (S01 E10)\nOu bien les deux ? \nA la promesse angélique d’un internet universel et accessible à tous\, nous déchantons. Nous nous sommes laissés dépasser par la course au progrès technologique au détriment du « savoir gratuit » et au « Web pour tous ». \nLe confinement a révélé les inégalités territoriales\, sociales et économiques en éloignant davantage les discriminations. Le numérique est pourtant devenu vital ne serait-ce que pour maintenir le lien social et devrait s’inscrire comme un droit universel. \nDétrompez-vous\, l’illectronisme n’est pas uniquement un problème générationnel ou technique (ex. accessibilité pour les personnes en situation d’handicap). \nLa méconnaissance de l’environnement et de  la littératie numériques\, l’accès aux outils et aux infrastructures…. touchent tous les âges\, tous les territoires\, toutes les sociétés… \nIl est pourtant devenu quasi-impossible de faire ses démarches administratives sans pianoter sur un écran; indispensable d’ouvrir les portes du possible aux jeunes générations pour les préparer au monde ultra-connecter; primordial d’oeuvrer à la transmission des compétences digitales\, etc \nComment faire du numérique un levier d’insertion sociale et économique ? \n  \nRDV  pour notre 10ème Live  \nNumérique: utopie ou nécessité sociale ? (S01 E10) \n30 min pour #ReEnchanterInternet \n26 novembre 2020 de 12h00 à 12h30 \n  \nAu sommaire\nUne édition spéciale en présence des représentants des deux associations bénéficiaires des droits d’auteurs du livre « WEB 2.0 15 ans déjà et après ?  : \n\nTom-Louis Teboul Responsable Développement et partenariats d’Emmaüs Connect\nSharon Sofer fondatrice de  Startup for Kids \n\nCe live sera animé par Fadhila Brahimi\, Executive Coach\, facilitatrice et fondatrice de FB-Associés avec la participation des contributeurs du Livre.  \nNous échangerons ensemble sur : \n\nExamen du paysage de l’exclusion numérique\nDiagnostic des actions menées en faveur du numérique pour tous\nLes leviers actuels et potentiels pour favoriser la mixité socioculturelle via le numerique\n\nRejoindre et Participer au Live sur notre chaîne Youtube « RéEnchanter Internet » à 12h précises \n 
URL:https://www.reenchanter-internet.com/event/teaser-numerique-utopie-ou-necessite-sociale-s01-e10/
CATEGORIES:"30 min pour RéEnchanter Internet"
ATTACH;FMTTYPE=image/png:https://www.reenchanter-internet.com/wp-content/uploads/2020/11/Youtube-Live-ReEnchantert-Internet-Inclusion-Numerique-1.png
END:VEVENT
END:VCALENDAR