BEGIN:VCALENDAR
VERSION:2.0
PRODID:-//ReEnchanter Internet - ECPv6.6.4//NONSGML v1.0//EN
CALSCALE:GREGORIAN
METHOD:PUBLISH
X-ORIGINAL-URL:https://www.reenchanter-internet.com
X-WR-CALDESC:évènements pour ReEnchanter Internet
REFRESH-INTERVAL;VALUE=DURATION:PT1H
X-Robots-Tag:noindex
X-PUBLISHED-TTL:PT1H
BEGIN:VTIMEZONE
TZID:Europe/Paris
BEGIN:DAYLIGHT
TZOFFSETFROM:+0100
TZOFFSETTO:+0200
TZNAME:CEST
DTSTART:20210328T010000
END:DAYLIGHT
BEGIN:STANDARD
TZOFFSETFROM:+0200
TZOFFSETTO:+0100
TZNAME:CET
DTSTART:20211031T010000
END:STANDARD
END:VTIMEZONE
BEGIN:VEVENT
DTSTART;TZID=Europe/Paris:20210305T080000
DTEND;TZID=Europe/Paris:20210305T170000
DTSTAMP:20260424T094640
CREATED:20210305T101359Z
LAST-MODIFIED:20210312T082629Z
UID:1458-1614931200-1614963600@www.reenchanter-internet.com
SUMMARY:[Teaser] TikTok: le grand méchant loup ou la bergère ? (S02 E08)
DESCRIPTION:TikTok: le grand méchant loup ou la bergère ? (S02 E08)\nSi vous n’êtes pas un utilisateur assidu de TikTok\, vous en avez une vague idée\, peut-être même\, trompeuse : le média social chinois des jeunes (génération T) qui a occupé les confinés à base de challenge rigolo; la future télé des jeunes générations; voire\, le média pointé par Trump comme l’allié du gouvernement chinois pour nuire à la sécurité américaine. \nPlus qu’une machine à buzz funny\, TikTok\, s’impose dans l’univers digital comme le réceptacle d’une culture universelle qui va au-delà d’un critère d’âge\, un agglomérat d’usages singuliers autour de l’humour et de la créativité… addictif\, certes… mais un véritable laboratoire qui séduit les marques\, les musées\, les acteurs du secourisme…. \nDécryptons ensemble son succès et la face cachée de sa fulgurante ascension. \n  \n RDV le 11 mars 2021 \npour notre Live N°8 de la saison 2 \nSur notre chaîne Youtube ReEnchanter Internet  \n30 min  pour #ReEnchanterInternet \nAu sommaire\n\nPlus qu’une Génération T\, c’est une culture\nTitok Go or Not Go  (risques et opportunités)\nTikTok est-il le futur Instagram ?\n\n \nEn présence des contributeurs du livre « WEB 2.0 15 ans déjà et après ? 7 pistes pour réenchanter Internet ! » \n\nMathieu Flaig\, cofondateur de @SYSK\, passionné par l’innovation\, connecté à Internet depuis 1996. Blogueur sur Publigeekaire.com\nEmilie Marquois\, Consultante Social Media\, conférencière\, formatrice et community manager. Co-auteure du livre “Guide des bonnes pratiques pour un élu connecté”  \n\nUn Live préparé et présenté par Fadhila Brahimi\, Executive Coach\, facilitatrice et fondatrice de FB-Associés
URL:https://www.reenchanter-internet.com/event/teaser-tiktok-le-grand-mechant-loup-ou-la-bergere-s02-e08/
CATEGORIES:"30 min pour RéEnchanter Internet"
ATTACH;FMTTYPE=image/png:https://www.reenchanter-internet.com/wp-content/uploads/2021/03/Youtube-Teaser-Live-ReEnchanter-Tiktok.png
END:VEVENT
END:VCALENDAR