BEGIN:VCALENDAR
VERSION:2.0
PRODID:-//ReEnchanter Internet - ECPv6.6.4//NONSGML v1.0//EN
CALSCALE:GREGORIAN
METHOD:PUBLISH
X-WR-CALNAME:ReEnchanter Internet
X-ORIGINAL-URL:https://www.reenchanter-internet.com
X-WR-CALDESC:évènements pour ReEnchanter Internet
REFRESH-INTERVAL;VALUE=DURATION:PT1H
X-Robots-Tag:noindex
X-PUBLISHED-TTL:PT1H
BEGIN:VTIMEZONE
TZID:Europe/Paris
BEGIN:DAYLIGHT
TZOFFSETFROM:+0100
TZOFFSETTO:+0200
TZNAME:CEST
DTSTART:20210328T010000
END:DAYLIGHT
BEGIN:STANDARD
TZOFFSETFROM:+0200
TZOFFSETTO:+0100
TZNAME:CET
DTSTART:20211031T010000
END:STANDARD
END:VTIMEZONE
BEGIN:VEVENT
DTSTART;TZID=Europe/Paris:20210429T120000
DTEND;TZID=Europe/Paris:20210429T130000
DTSTAMP:20260423T122520
CREATED:20210426T174747Z
LAST-MODIFIED:20210427T105542Z
UID:1559-1619697600-1619701200@www.reenchanter-internet.com
SUMMARY:[Teaser] La bataille de l'audience: fin de l'histoire ou histoire sans fin ? avec Marie-Laure Sauty de Chalon (#TCDPA S01 E03)
DESCRIPTION:La bataille de l’audience: fin de l’histoire ou histoire sans fin ?\nParadoxe kafkaïen pour les marques. \nTandis que le temps d’attention des internautes diminuent; les sollicitations augmentent. \nleur consommation de l’information multi-média se multiplie en  se diluant sur plusieurs espaces numériques; \nles marques – quant à elles- bénéficient d’un potentiel de moins en moins exhaustif de points de contact pour capter une audience volatile\, diffuse\, infinie de plus en plus méfiante vis-à-vis du discours corporate; \nMais plus sensible aux discours des marques personnelles influentes engagées. \nEn conséquence\, il faut faire court\, utile\, attrayant dans une pluralité d’espaces et de contenus pour raconter un récit clair\, singulier et captivant dans un monde fragmenté. \nSur le papier. Une jolie équation qui ne résiste pas à l’épreuve d’une réalité proliforme. \nPour en parler\, sans bulshit\, avec une intention philosophique-sociologique-géostratégique…et sociale\, le collectif RéEnchanterInternet vous propose le 3ème numérique de son tout nouveau programme d’une heure avec un invité de marque : Marie-laure Sauty de Chalon. \n#TCDPA Episode N°3 \nToutes Choses Digitales Par Ailleurs  \nJeudi 29 avril 2021 \nDe 12h à 13h \nEn direct sur notre chaîne Youtube ReEnchanter Internet  \nAnimé par Fadhila Brahimi\, Facilitratrice et fondatrice de FB-Associés \nNotre invité: Marie-Laure Sauty de Chalon\n\nMarie-Laure Sauty de Chalon\, est l’une des personnalités françaises les plus influentes des médias\, PDG l’agence Factor K depuis 2018\, elle a dirigé le  groupe aufeminin et siège au conseil d’administration de LVMH. \nCo-fondateur et PDG Melusine Cosmetics et Challenge Bonheur avecEmilie Hannezo\nCo-fondateur de FairyTales (Rose La Lune\, Kimber Cosmetics et La Maison des Sultans) avec Benjaminmadja\nTeacher  \nAuteure de divers ouvrages\, tels que « Médias\, votre public n’est plus dans la salle »\, ou encore « L’art du marketing to women » publié en août 2014. Elle enseigne à Sciences Po Paris un cours intitulé « Les Médias Mutants ». \nPDG Factor K\, gérant les marques et les médias depuis mai 2018\nCo-fondateur et PDG Melusine Cosmetics et Challenge Bonheur avec @EmilieHannezo\nCo-fondateur de FairyTales (Rose La Lune\, Kimber Cosmetics et La Maison des Sultans) avec @BenjaminSmadja\nTeacher @SciencesPo depuis 2004 \n\nAu sommaire\n\nL’audience: une marchandise comme une autre ?\nLes marques à l’épreuve de l’Asie ?\nEchanges à battons rompus avec tous les chroniqueurs\n\nLes chroniqueurs-experts\n\nCyrille Chaudoit \, Expert de la transformation digitale Fondateur Talenco et du Think-Tank Singulier (point).es\nDamien Douani\, Exp/_orateur digital fondateur du LAB36 / Futurs Simples\, co-créateur du podcast des Eclaireurs du Numérique\, enseignant expert en numérique et nouveaux médias\, et chroniqueur TV et radio\n\nEmilie Marquois\, Consultante Social Media\, conférencière\, formatrice et community manager. Co-auteure du livre “Guide des bonnes pratiques pour un élu connecté”  \nAnthony Poncier\, Docteur en histoire sociale et politique\, expert en transformation digital\, fondateur du Top 500 Bars\nPierre Vallet\, CEO de Reputation Age\, agence conseil en gestion d’image dans l’espace public\, fondateur de la toute première agence de e-reputation de France (2004) et expert de la communication de crise à l’heure des “vérités alternatives”
URL:https://www.reenchanter-internet.com/event/teaser-la-bataille-de-laudience-fin-de-lhistoire-ou-histoire-sans-fin-avec-marie-laure-sauty-de-chalon-tcdpa-s02-e03/
CATEGORIES:TCDPA
ATTACH;FMTTYPE=image/png:https://www.reenchanter-internet.com/wp-content/uploads/2021/04/Youtube-TCDPA-Audience-ML-sauty-de-chalon.png
END:VEVENT
END:VCALENDAR