BEGIN:VCALENDAR
VERSION:2.0
PRODID:-//ReEnchanter Internet - ECPv6.6.4//NONSGML v1.0//EN
CALSCALE:GREGORIAN
METHOD:PUBLISH
X-ORIGINAL-URL:https://www.reenchanter-internet.com
X-WR-CALDESC:évènements pour ReEnchanter Internet
REFRESH-INTERVAL;VALUE=DURATION:PT1H
X-Robots-Tag:noindex
X-PUBLISHED-TTL:PT1H
BEGIN:VTIMEZONE
TZID:Europe/Paris
BEGIN:DAYLIGHT
TZOFFSETFROM:+0100
TZOFFSETTO:+0200
TZNAME:CEST
DTSTART:20210328T010000
END:DAYLIGHT
BEGIN:STANDARD
TZOFFSETFROM:+0200
TZOFFSETTO:+0100
TZNAME:CET
DTSTART:20211031T010000
END:STANDARD
END:VTIMEZONE
BEGIN:VEVENT
DTSTART;TZID=Europe/Paris:20211125T120000
DTEND;TZID=Europe/Paris:20211125T130000
DTSTAMP:20260423T235821
CREATED:20211123T073513Z
LAST-MODIFIED:20211123T074249Z
UID:1648-1637841600-1637845200@www.reenchanter-internet.com
SUMMARY:[SaveTheDate]  Le futur digital peut-il encore être éthique? (#TCDPA S01 E08)
DESCRIPTION:Le futur digital peut-il encore être éthique?  \nAppelés « amis virtuels »\, « anges gardiens » ou encore des « deadbots »\, ils sont de plus en plus présents dans notre quotidien.\nCes agents conversationnels\, communément appelés ChatBots\, nous parlent\, nous écrivent.. dialoguent avec nous pour nous informer\, nous assister\, nous guider dans nos achats en ligne et nous aiguiller lorsque nous avons une question SAV\, etc \nBonjour\, \nComment puis-je vous aider ? \n  \nBonjour\,  \nJe suis l’assistant virtuel d’Alerte Intempéries xxxx. Pour vous abonner au service\, gérer vos notifications ou contacter le service client\, vous pouvez utiliser les boutons ci-dessous \nL’enjeu des marques est d’offrir une interaction immédiate aux consommateurs et de désengorger les plates-formes téléphoniques. \nBien que ce dialogue nous agace parfois\, \nconcrètement\, à quoi vous servez ? \nEh oui\,  la petite pop-pup en bas à droite de votre écran\, est censée nous faire gagner du temps et nous simplifier la vie (pour 56% des français). \nC’est\, dans tous les cas\, le pari des marques! \nRien que sur Facebook Messenger on décompte 100 000 chatbots. \nDes chiffres qui font tourner la tête\, la planche à billet et les expérimentations pour les rendre plus cordiale\, emphatique\, serviable… plus humain. \nDès lors\, se pose des questions éthiques et réglementaires: le Chatbot peut-il nous imiter au point d’être perçu comme une personne ? \nLe CNPEN vient de rendre public un rapport sur les principales tensions concernant le\nbrouillage des frontières entre une machine et un être humain\, l’imitation du langage et des émotions par les chatbots\, ainsi que la capacité des agents conversationnels à manipuler les interlocuteurs humains. \nParlons-en avec notre invitée\, Laurence Devillers. \n  \n#TCDPA Episode N°8 \nToutes Choses Digitales Par Ailleurs  \nJeudi 25 novembre 2021 \nDe 12h à 13h \nEn direct sur notre chaîne Youtube ReEnchanter Internet  \nEmission présentée par Fadhila Brahimi\, Facilitratrice et fondatrice de FB-Associés \nNotre invité: Laurence Devillers\n\n\nLaurence Devillers est professeure à l’université Paris-Sorbonne et chercheuse au Laboratoire d’informatique pour la mécanique et les sciences de l’ingénieur (Limsi) du CNRS;\nSes domaines de recherche portent principalement sur l’interaction homme-machine \, la détection des émotions \, le dialogue oral et la robotique affective et interactive”\nElle a participé à de nombreux projets nationaux et européens et elle est membre de commissions de réflexion comme la CERNA (Commission de réflexion sur l’éthique de la recherche en sciences et technologies du numérique); \nElle a publié de nombreux ouvrages et publications tels que \n\nDes robots et des hommes : mythes\, fantasmes et réalité : Mythes\, fantasmes et réalité\, 2017\,\nLes Robots émotionnels : Santé\, surveillance\, sexualité… : et l’éthique dans tout ça ?\nLa Souveraineté numérique dans l’après-crise\, 2020\n\nRécemment elle a  co-pilotée\, un avis commandé par le 1er ministre\, rendu public le 10 novembre : Le rapport Comité National pilote d’éthique du numérique “agents conversationnels: enjeux d’éthique” \n\n\nAu sommaire\n\nLes Chatbots un présent conjugué au futur?\nEthique et normes dans le digital\, un combat perdu d’avance?\nA bâtons rompus\n\nLes chroniqueurs-experts\n\nCyrille Chaudoit \, Expert de la transformation digitale Fondateur Talenco et du Think-Tank Singulier (point).es\nDamien Douani\, Exp/_orateur digital fondateur du LAB36 / Futurs Simples\, co-créateur du podcast des Eclaireurs du Numérique\, enseignant expert en numérique et nouveaux médias\, et chroniqueur TV et radio\nEmilie Marquois\, Consultante Social Media\, conférencière\, formatrice et community manager. Co-auteure du livre “Guide des bonnes pratiques pour un élu connecté”\nAnthony Poncier\, Docteur en histoire sociale et politique\, expert en transformation digital\, fondateur du Top 500 Bars\n\n#TCDPA Episode N°8 \nToutes Choses Digitales Par Ailleurs  \nJeudi 25 novembre 2021 \nDe 12h à 13h \nEn direct sur notre chaîne Youtube ReEnchanter Internet 
URL:https://www.reenchanter-internet.com/event/savethedate-le-futur-digital-peut-il-encore-etre-ethique-tcdpa-s01-e08/
CATEGORIES:TCDPA
ATTACH;FMTTYPE=image/png:https://www.reenchanter-internet.com/wp-content/uploads/2021/11/TCDPA-Laurence-Devillers-Le-futur-digital-peut-il-encore-être-éthique-1.png
END:VEVENT
END:VCALENDAR